BEGIN:VCALENDAR
VERSION:2.0
PRODID:-//archive.cryptologicfoundation.org//NONSGML kigkonsult.se iCalcrea
 tor 2.30.10//
CALSCALE:GREGORIAN
METHOD:PUBLISH
UID:8a3e983c-2bdf-4221-b6ea-429a9611656e
X-WR-CALDESC:31 January 1992: OTD in 1992 - the Federal Register published 
 details for the Secure Hash Standard/Algorithm (SHA). The original SHA was
  designed to provide a mechanism to check the integrity of data. \n\nSee b
 elow for a link to view the original document via the Federal Register arc
 hives.
X-WR-RELCALID:a6f4092ac6397c9fde9729a8eac86c89
X-WR-TIMEZONE:America/New_York
BEGIN:VTIMEZONE
TZID:America/New_York
BEGIN:STANDARD
TZNAME:EST
DTSTART:20261101T020000
TZOFFSETFROM:-0400
TZOFFSETTO:-0500
RDATE:20271107T020000
END:STANDARD
BEGIN:DAYLIGHT
TZNAME:EDT
DTSTART:20260308T020000
TZOFFSETFROM:-0500
TZOFFSETTO:-0400
RDATE:20270314T020000
RDATE:20280312T020000
END:DAYLIGHT
END:VTIMEZONE
BEGIN:VEVENT
UID:84a3edb9-65dd-440c-b24b-874e056fb5b2
DTSTAMP:20260424T192902Z
DESCRIPTION:31 January 1992: OTD in 1992 - the Federal Register published d
 etails for the Secure Hash Standard/Algorithm (SHA). The original SHA was 
 designed to provide a mechanism to check the integrity of data. \n\nSee be
 low for a link to view the original document via the Federal Register arch
 ives.
DTSTART;TZID=America/New_York:20270131T060000
DTEND;TZID=America/New_York:20270131T060001
LOCATION:
SUMMARY:1992: 'The Federal Register' published details for the Secure Hash 
 Standard (SHA).
END:VEVENT
END:VCALENDAR
