BEGIN:VCALENDAR
VERSION:2.0
PRODID:-//archive.cryptologicfoundation.org//NONSGML kigkonsult.se iCalcrea
 tor 2.30.10//
CALSCALE:GREGORIAN
METHOD:PUBLISH
UID:1cf551a4-fce1-4fbc-951a-53fd247f6331
X-WR-CALDESC:1 February 1942: FRUMEL\, Navy's Fleet Radio Unit\, Melbourne\
 , established to assist General MacArthur.
X-WR-RELCALID:0c22b311c93d0bb2ed5c746d97b3c6d5
X-WR-TIMEZONE:America/New_York
BEGIN:VTIMEZONE
TZID:America/New_York
BEGIN:STANDARD
TZNAME:EST
DTSTART:20261101T020000
TZOFFSETFROM:-0400
TZOFFSETTO:-0500
RDATE:20271107T020000
END:STANDARD
BEGIN:DAYLIGHT
TZNAME:EDT
DTSTART:20260308T020000
TZOFFSETFROM:-0500
TZOFFSETTO:-0400
RDATE:20270314T020000
RDATE:20280312T020000
END:DAYLIGHT
END:VTIMEZONE
BEGIN:VEVENT
UID:f8bd3d62-324f-4ae4-ac0b-801f5fdc15b5
DTSTAMP:20260424T210026Z
DESCRIPTION:1 February 1942: FRUMEL\, Navy's Fleet Radio Unit\, Melbourne\,
  established to assist General MacArthur.
DTSTART;TZID=America/New_York:20270201T000000
DTEND;TZID=America/New_York:20270201T235900
LOCATION:
SUMMARY:1942: FRUMEL established to assist General MacArthur
END:VEVENT
END:VCALENDAR
