BEGIN:VCALENDAR
VERSION:2.0
PRODID:-//archive.cryptologicfoundation.org//NONSGML kigkonsult.se iCalcrea
 tor 2.30.10//
CALSCALE:GREGORIAN
METHOD:PUBLISH
UID:d6815ccd-c265-460e-b2b0-3e6bb4bd970e
X-WR-CALDESC:1 February 1949: The USAFSS received its first cryptologic uni
 ts from ASA.
X-WR-RELCALID:87722e6ba696c33cff2a975fe143dbee
X-WR-TIMEZONE:America/New_York
BEGIN:VTIMEZONE
TZID:America/New_York
BEGIN:STANDARD
TZNAME:EST
DTSTART:20261101T020000
TZOFFSETFROM:-0400
TZOFFSETTO:-0500
RDATE:20271107T020000
END:STANDARD
BEGIN:DAYLIGHT
TZNAME:EDT
DTSTART:20260308T020000
TZOFFSETFROM:-0500
TZOFFSETTO:-0400
RDATE:20270314T020000
RDATE:20280312T020000
END:DAYLIGHT
END:VTIMEZONE
BEGIN:VEVENT
UID:ee4706b2-d39e-459a-9049-c71142208f88
DTSTAMP:20260424T205616Z
DESCRIPTION:1 February 1949: The USAFSS received its first cryptologic unit
 s from ASA.
DTSTART;TZID=America/New_York:20270201T000000
DTEND;TZID=America/New_York:20270201T235900
LOCATION:
SUMMARY:1949: USAFSS received first cryptologic units from the ASA.
END:VEVENT
END:VCALENDAR
