BEGIN:VCALENDAR
VERSION:2.0
PRODID:-//archive.cryptologicfoundation.org//NONSGML kigkonsult.se iCalcrea
 tor 2.30.10//
CALSCALE:GREGORIAN
METHOD:PUBLISH
UID:a384df65-62a0-4af0-aad1-46bb4db499d3
X-WR-CALDESC:3 February 1963: Intercept operations began at Phu Bai. Became
  the largest U.S. site in South Vietnam.
X-WR-RELCALID:d0c6d47be1f5a4ea5ea0d203588b3aa9
X-WR-TIMEZONE:America/New_York
BEGIN:VTIMEZONE
TZID:America/New_York
BEGIN:STANDARD
TZNAME:EST
DTSTART:20261101T020000
TZOFFSETFROM:-0400
TZOFFSETTO:-0500
RDATE:20271107T020000
END:STANDARD
BEGIN:DAYLIGHT
TZNAME:EDT
DTSTART:20260308T020000
TZOFFSETFROM:-0500
TZOFFSETTO:-0400
RDATE:20270314T020000
RDATE:20280312T020000
END:DAYLIGHT
END:VTIMEZONE
BEGIN:VEVENT
UID:a246c2bf-36ff-4099-9b2e-feaf86d3b974
DTSTAMP:20260424T205550Z
DESCRIPTION:3 February 1963: Intercept operations began at Phu Bai. Became 
 the largest U.S. site in South Vietnam.
DTSTART;TZID=America/New_York:20270203T000000
DTEND;TZID=America/New_York:20270203T235900
LOCATION:
SUMMARY:1963: Intercept operations began at Phu Bai
END:VEVENT
END:VCALENDAR
