BEGIN:VCALENDAR
VERSION:2.0
PRODID:-//archive.cryptologicfoundation.org//NONSGML kigkonsult.se iCalcrea
 tor 2.30.10//
CALSCALE:GREGORIAN
METHOD:PUBLISH
UID:dea19f68-c5af-453f-92db-6429db768203
X-WR-CALDESC:10 February 1943: Establishment of the 805th Signal Service Co
 mpany for operation of the SIGSALY.
X-WR-RELCALID:e3ae65c9d052a3f59a4e7fd76095cda9
X-WR-TIMEZONE:America/New_York
BEGIN:VTIMEZONE
TZID:America/New_York
BEGIN:STANDARD
TZNAME:EST
DTSTART:20261101T020000
TZOFFSETFROM:-0400
TZOFFSETTO:-0500
RDATE:20271107T020000
END:STANDARD
BEGIN:DAYLIGHT
TZNAME:EDT
DTSTART:20260308T020000
TZOFFSETFROM:-0500
TZOFFSETTO:-0400
RDATE:20270314T020000
RDATE:20280312T020000
END:DAYLIGHT
END:VTIMEZONE
BEGIN:VEVENT
UID:918a90bc-b888-4e3b-986e-c00dc6a91b70
DTSTAMP:20260424T210451Z
DESCRIPTION:10 February 1943: Establishment of the 805th Signal Service Com
 pany for operation of the SIGSALY.
DTSTART;TZID=America/New_York:20270210T000000
DTEND;TZID=America/New_York:20270210T235900
LOCATION:
SUMMARY:1943: Establishment of the 805th Signal Service Company for operati
 on of the SIGSALY.
END:VEVENT
END:VCALENDAR
