BEGIN:VCALENDAR
VERSION:2.0
PRODID:-//archive.cryptologicfoundation.org//NONSGML kigkonsult.se iCalcrea
 tor 2.30.10//
CALSCALE:GREGORIAN
METHOD:PUBLISH
UID:d2e002dc-4af2-4fe4-a5ab-ed1bafcccb46
X-WR-CALDESC:In honor of President's Month - OTD - the DEC Alpha provided n
 uclear codes to US leadership for over 30 years.
X-WR-RELCALID:b2a6d1c014cc54601b75e5fff693d80e
X-WR-TIMEZONE:America/New_York
BEGIN:VTIMEZONE
TZID:America/New_York
BEGIN:STANDARD
TZNAME:EST
DTSTART:20261101T020000
TZOFFSETFROM:-0400
TZOFFSETTO:-0500
RDATE:20271107T020000
END:STANDARD
BEGIN:DAYLIGHT
TZNAME:EDT
DTSTART:20260308T020000
TZOFFSETFROM:-0500
TZOFFSETTO:-0400
RDATE:20270314T020000
RDATE:20280312T020000
END:DAYLIGHT
END:VTIMEZONE
BEGIN:VEVENT
UID:22e93fd7-0866-417c-866e-b0649ef1db98
DTSTAMP:20260424T205831Z
DESCRIPTION:In honor of President's Month - OTD - the DEC Alpha provided nu
 clear codes to US leadership for over 30 years.
DTSTART;TZID=America/New_York:20270215T060000
DTEND;TZID=America/New_York:20270215T060001
LOCATION:
SUMMARY:President's Month OTD - DEC Alpha
END:VEVENT
END:VCALENDAR
