BEGIN:VCALENDAR
VERSION:2.0
PRODID:-//archive.cryptologicfoundation.org//NONSGML kigkonsult.se iCalcrea
 tor 2.30.10//
CALSCALE:GREGORIAN
METHOD:PUBLISH
UID:d41123e8-2117-4d8b-a0f7-5d53fd81f9d4
X-WR-CALDESC:16 February 1973: Ribbon-cutting ceremony for the National SIG
 INT Operations Center (NSOC).
X-WR-RELCALID:80c7df37650b4a25d2902c5793d99db3
X-WR-TIMEZONE:America/New_York
BEGIN:VTIMEZONE
TZID:America/New_York
BEGIN:STANDARD
TZNAME:EST
DTSTART:20261101T020000
TZOFFSETFROM:-0400
TZOFFSETTO:-0500
RDATE:20271107T020000
END:STANDARD
BEGIN:DAYLIGHT
TZNAME:EDT
DTSTART:20260308T020000
TZOFFSETFROM:-0500
TZOFFSETTO:-0400
RDATE:20270314T020000
RDATE:20280312T020000
END:DAYLIGHT
END:VTIMEZONE
BEGIN:VEVENT
UID:64308604-bd8d-4805-b98e-baf779a98630
DTSTAMP:20260424T210307Z
DESCRIPTION:16 February 1973: Ribbon-cutting ceremony for the National SIGI
 NT Operations Center (NSOC).
DTSTART;TZID=America/New_York:20270216T000000
DTEND;TZID=America/New_York:20270216T235900
LOCATION:
SUMMARY:1973: Ribbon-cutting for National SIGINT Operations Center (NSOC)
END:VEVENT
END:VCALENDAR
