BEGIN:VCALENDAR
VERSION:2.0
PRODID:-//archive.cryptologicfoundation.org//NONSGML kigkonsult.se iCalcrea
 tor 2.30.10//
CALSCALE:GREGORIAN
METHOD:PUBLISH
UID:41aa19e1-5fe6-4c43-b682-38a8063a75f9
X-WR-CALDESC:23 February 1927: Radio Intercept Act of 1927 prohibited radio
  intercept in the U.S.
X-WR-RELCALID:dbd74a6f765e4ee55ae0b8d02f242ad2
X-WR-TIMEZONE:America/New_York
BEGIN:VTIMEZONE
TZID:America/New_York
BEGIN:STANDARD
TZNAME:EST
DTSTART:20261101T020000
TZOFFSETFROM:-0400
TZOFFSETTO:-0500
RDATE:20271107T020000
END:STANDARD
BEGIN:DAYLIGHT
TZNAME:EDT
DTSTART:20260308T020000
TZOFFSETFROM:-0500
TZOFFSETTO:-0400
RDATE:20270314T020000
RDATE:20280312T020000
END:DAYLIGHT
END:VTIMEZONE
BEGIN:VEVENT
UID:0140c1b1-c0c4-4b7f-a132-0fb7599fd28f
DTSTAMP:20260424T210308Z
DESCRIPTION:23 February 1927: Radio Intercept Act of 1927 prohibited radio 
 intercept in the U.S.
DTSTART;TZID=America/New_York:20270223T000000
DTEND;TZID=America/New_York:20270223T235900
LOCATION:
SUMMARY:1927: Radio Act of 1927.
END:VEVENT
END:VCALENDAR
