BEGIN:VCALENDAR
VERSION:2.0
PRODID:-//archive.cryptologicfoundation.org//NONSGML kigkonsult.se iCalcrea
 tor 2.30.10//
CALSCALE:GREGORIAN
METHOD:PUBLISH
UID:6e848ee9-134b-471f-87e8-9ce7a0e82ee1
X-WR-CALDESC:23 February 1996: Lt Gen Kenneth Minihan became Director of th
 e National Security Agency.
X-WR-RELCALID:2d10fafc96f25a2d68dad6174bda0d8d
X-WR-TIMEZONE:America/New_York
BEGIN:VTIMEZONE
TZID:America/New_York
BEGIN:STANDARD
TZNAME:EST
DTSTART:20261101T020000
TZOFFSETFROM:-0400
TZOFFSETTO:-0500
RDATE:20271107T020000
END:STANDARD
BEGIN:DAYLIGHT
TZNAME:EDT
DTSTART:20260308T020000
TZOFFSETFROM:-0500
TZOFFSETTO:-0400
RDATE:20270314T020000
RDATE:20280312T020000
END:DAYLIGHT
END:VTIMEZONE
BEGIN:VEVENT
UID:5742a201-b3a8-4083-ab12-e15078ac45e0
DTSTAMP:20260424T205917Z
DESCRIPTION:23 February 1996: Lt Gen Kenneth Minihan became Director of the
  National Security Agency.
DTSTART;TZID=America/New_York:20270223T000000
DTEND;TZID=America/New_York:20270223T235900
LOCATION:
SUMMARY:1996: Lt Gen Kenneth Minihan\, USAF\, became DIRNSA.
END:VEVENT
END:VCALENDAR
