BEGIN:VCALENDAR
VERSION:2.0
PRODID:-//archive.cryptologicfoundation.org//NONSGML kigkonsult.se iCalcrea
 tor 2.30.10//
CALSCALE:GREGORIAN
METHOD:PUBLISH
UID:fb8bf460-6c1e-48c8-b378-b4c915bd4191
X-WR-CALDESC:25 February 1863: The U.S. Government took control of commerci
 al telegraph companies for the duration of the Civil War.
X-WR-RELCALID:38d8efa026917a46d66882185187bf62
X-WR-TIMEZONE:America/New_York
BEGIN:VTIMEZONE
TZID:America/New_York
BEGIN:STANDARD
TZNAME:EST
DTSTART:20261101T020000
TZOFFSETFROM:-0400
TZOFFSETTO:-0500
RDATE:20271107T020000
END:STANDARD
BEGIN:DAYLIGHT
TZNAME:EDT
DTSTART:20260308T020000
TZOFFSETFROM:-0500
TZOFFSETTO:-0400
RDATE:20270314T020000
RDATE:20280312T020000
END:DAYLIGHT
END:VTIMEZONE
BEGIN:VEVENT
UID:7bf7d547-7fb4-4b7e-84d2-fb56f47126cb
DTSTAMP:20260424T210430Z
DESCRIPTION:25 February 1863: The U.S. Government took control of commercia
 l telegraph companies for the duration of the Civil War.
DTSTART;TZID=America/New_York:20270225T000000
DTEND;TZID=America/New_York:20270225T235900
LOCATION:
SUMMARY:1863: US govt took control of commercial telegraphs during Civil Wa
 r.
END:VEVENT
END:VCALENDAR
