BEGIN:VCALENDAR
VERSION:2.0
PRODID:-//archive.cryptologicfoundation.org//NONSGML kigkonsult.se iCalcrea
 tor 2.30.10//
CALSCALE:GREGORIAN
METHOD:PUBLISH
UID:3376d954-6fb7-4137-9668-3803d37ea475
X-WR-CALDESC:26 February 1881: Joseph Mauborgne\, expert on codes and ciphe
 rs and WWI Army Signal Corps Officer\, was born on this date.\n\nFrom Wiki
 pedia: \nJoseph Mauborgne co-invented the one-time pad with Gilbert Vernam
  of Bell Labs. In 1914 he published the first recorded solution of the Pla
 yfair cipher. Mauborgne became a Major General in the United States Army\,
  and from October 1937 to his retirement in 1941 was the Army's 12th Chief
  Signal Officer\, in command of the Signal Corps.
X-WR-RELCALID:86e489b7c800194db77d390be4d5f196
X-WR-TIMEZONE:America/New_York
BEGIN:VTIMEZONE
TZID:America/New_York
BEGIN:STANDARD
TZNAME:EST
DTSTART:20261101T020000
TZOFFSETFROM:-0400
TZOFFSETTO:-0500
RDATE:20271107T020000
END:STANDARD
BEGIN:DAYLIGHT
TZNAME:EDT
DTSTART:20260308T020000
TZOFFSETFROM:-0500
TZOFFSETTO:-0400
RDATE:20270314T020000
RDATE:20280312T020000
END:DAYLIGHT
END:VTIMEZONE
BEGIN:VEVENT
UID:f39218f1-e104-4da3-b545-7b302d61ccac
DTSTAMP:20260424T205545Z
DESCRIPTION:26 February 1881: Joseph Mauborgne\, expert on codes and cipher
 s and WWI Army Signal Corps Officer\, was born on this date.\n\nFrom Wikip
 edia: \nJoseph Mauborgne co-invented the one-time pad with Gilbert Vernam 
 of Bell Labs. In 1914 he published the first recorded solution of the Play
 fair cipher. Mauborgne became a Major General in the United States Army\, 
 and from October 1937 to his retirement in 1941 was the Army's 12th Chief 
 Signal Officer\, in command of the Signal Corps.
DTSTART;TZID=America/New_York:20270226T000000
DTEND;TZID=America/New_York:20270226T235900
LOCATION:
SUMMARY:1881: Joseph Mauborgne\, code & cipher expert\, was born.
END:VEVENT
END:VCALENDAR
