BEGIN:VCALENDAR
VERSION:2.0
PRODID:-//archive.cryptologicfoundation.org//NONSGML kigkonsult.se iCalcrea
 tor 2.30.10//
CALSCALE:GREGORIAN
METHOD:PUBLISH
UID:75cc4be3-8e31-4fae-9ad2-7057484914c3
X-WR-CALDESC:26 February 1981: NSA sponsored exhibit formally opened at the
  Smithsonian and was open for one year. The exhibit\, 'Cipher Machines: Wo
 rld War I - World War II' featured devices ranging from the 1910 cipher di
 sk to the German Enigma and the US SIGABA. Commercial machines of the 1920
 s and 1930s were also on display. Learn more via the pdf link below.
X-WR-RELCALID:e3aef8ef46603cd9034ef653c5b21fe4
X-WR-TIMEZONE:America/New_York
BEGIN:VTIMEZONE
TZID:America/New_York
BEGIN:STANDARD
TZNAME:EST
DTSTART:20261101T020000
TZOFFSETFROM:-0400
TZOFFSETTO:-0500
RDATE:20271107T020000
END:STANDARD
BEGIN:DAYLIGHT
TZNAME:EDT
DTSTART:20260308T020000
TZOFFSETFROM:-0500
TZOFFSETTO:-0400
RDATE:20270314T020000
RDATE:20280312T020000
END:DAYLIGHT
END:VTIMEZONE
BEGIN:VEVENT
UID:b98ecdc7-e36e-4664-9114-1be9d341285c
DTSTAMP:20260424T205647Z
DESCRIPTION:26 February 1981: NSA sponsored exhibit formally opened at the 
 Smithsonian and was open for one year. The exhibit\, 'Cipher Machines: Wor
 ld War I - World War II' featured devices ranging from the 1910 cipher dis
 k to the German Enigma and the US SIGABA. Commercial machines of the 1920s
  and 1930s were also on display. Learn more via the pdf link below.
DTSTART;TZID=America/New_York:20270226T000000
DTEND;TZID=America/New_York:20270226T235900
LOCATION:
SUMMARY:1981: NSA sponsored exhibit opened at Smithsonian.
END:VEVENT
END:VCALENDAR
