BEGIN:VCALENDAR
VERSION:2.0
PRODID:-//archive.cryptologicfoundation.org//NONSGML kigkonsult.se iCalcrea
 tor 2.30.10//
CALSCALE:GREGORIAN
METHOD:PUBLISH
UID:8db05621-924a-4316-83a2-606f641d3dee
X-WR-CALDESC:1 March 1918: German ADFGVX cipher was first used. Invented by
  Colonel Fritz Nebel and introduced in March 1918\, the cipher was a fract
 ionating transposition cipher which combined a modified Polybius square wi
 th a single columnar transposition.
X-WR-RELCALID:0d4229d1e6f3ebb6d5e6f5d7353362e8
X-WR-TIMEZONE:America/New_York
BEGIN:VTIMEZONE
TZID:America/New_York
BEGIN:STANDARD
TZNAME:EST
DTSTART:20261101T020000
TZOFFSETFROM:-0400
TZOFFSETTO:-0500
RDATE:20271107T020000
END:STANDARD
BEGIN:DAYLIGHT
TZNAME:EDT
DTSTART:20260308T020000
TZOFFSETFROM:-0500
TZOFFSETTO:-0400
RDATE:20270314T020000
RDATE:20280312T020000
END:DAYLIGHT
END:VTIMEZONE
BEGIN:VEVENT
UID:edd03d1c-be7c-43b3-aad0-05bb253d5417
DTSTAMP:20260424T222120Z
DESCRIPTION:1 March 1918: German ADFGVX cipher was first used. Invented by 
 Colonel Fritz Nebel and introduced in March 1918\, the cipher was a fracti
 onating transposition cipher which combined a modified Polybius square wit
 h a single columnar transposition.
DTSTART;TZID=America/New_York:20270301T000000
DTEND;TZID=America/New_York:20270301T235900
LOCATION:
SUMMARY:1918: German ADFGVX cipher first used.
END:VEVENT
END:VCALENDAR
