BEGIN:VCALENDAR
VERSION:2.0
PRODID:-//archive.cryptologicfoundation.org//NONSGML kigkonsult.se iCalcrea
 tor 2.30.10//
CALSCALE:GREGORIAN
METHOD:PUBLISH
UID:a0ffb3ac-1067-4d75-832e-4a71c57ed6de
X-WR-CALDESC:1 March 1930: The first hire at SIS was Annie Louise Newkirk w
 ho was hired as a cryptographic clerk. Interesting note\, when a phone cal
 l came in for someone working in the vault room\, Ms. Newkirk would buzz t
 he back room using a Morse code equivalent for the first initial of the in
 dividual's name.
X-WR-RELCALID:180f6b616bba65f03d9bad5d1273c87c
X-WR-TIMEZONE:America/New_York
BEGIN:VTIMEZONE
TZID:America/New_York
BEGIN:STANDARD
TZNAME:EST
DTSTART:20261101T020000
TZOFFSETFROM:-0400
TZOFFSETTO:-0500
RDATE:20271107T020000
END:STANDARD
BEGIN:DAYLIGHT
TZNAME:EDT
DTSTART:20260308T020000
TZOFFSETFROM:-0500
TZOFFSETTO:-0400
RDATE:20270314T020000
RDATE:20280312T020000
END:DAYLIGHT
END:VTIMEZONE
BEGIN:VEVENT
UID:075fe960-c05c-455d-94d4-d75b846b53f4
DTSTAMP:20260424T225417Z
DESCRIPTION:1 March 1930: The first hire at SIS was Annie Louise Newkirk wh
 o was hired as a cryptographic clerk. Interesting note\, when a phone call
  came in for someone working in the vault room\, Ms. Newkirk would buzz th
 e back room using a Morse code equivalent for the first initial of the ind
 ividual's name.
DTSTART;TZID=America/New_York:20270301T000000
DTEND;TZID=America/New_York:20270301T235900
LOCATION:
SUMMARY:1930: First hire at SIS - Annie Louise Newkirk
END:VEVENT
END:VCALENDAR
