BEGIN:VCALENDAR
VERSION:2.0
PRODID:-//archive.cryptologicfoundation.org//NONSGML kigkonsult.se iCalcrea
 tor 2.30.10//
CALSCALE:GREGORIAN
METHOD:PUBLISH
UID:f40e54d1-3fa3-4884-9288-0b2265b0ced3
X-WR-CALDESC:1 March 1951: Shelby Patterson became chief of the AFSA school
 .
X-WR-RELCALID:cf566dd129b55f2bc3ba65de7511f1cb
X-WR-TIMEZONE:America/New_York
BEGIN:VTIMEZONE
TZID:America/New_York
BEGIN:STANDARD
TZNAME:EST
DTSTART:20261101T020000
TZOFFSETFROM:-0400
TZOFFSETTO:-0500
RDATE:20271107T020000
END:STANDARD
BEGIN:DAYLIGHT
TZNAME:EDT
DTSTART:20260308T020000
TZOFFSETFROM:-0500
TZOFFSETTO:-0400
RDATE:20270314T020000
RDATE:20280312T020000
END:DAYLIGHT
END:VTIMEZONE
BEGIN:VEVENT
UID:f0d01dbd-1370-4422-a6a0-91fcfb138eb4
DTSTAMP:20260424T224411Z
DESCRIPTION:1 March 1951: Shelby Patterson became chief of the AFSA school.
DTSTART;TZID=America/New_York:20270301T000000
DTEND;TZID=America/New_York:20270301T235900
LOCATION:
SUMMARY:1951: Shelby Patterson became chief of the AFSA school.
END:VEVENT
END:VCALENDAR
