BEGIN:VCALENDAR
VERSION:2.0
PRODID:-//archive.cryptologicfoundation.org//NONSGML kigkonsult.se iCalcrea
 tor 2.30.10//
CALSCALE:GREGORIAN
METHOD:PUBLISH
UID:937d36e4-900b-4865-85e7-409a9e6738dc
X-WR-CALDESC:4 March 1971: Army RU-8 shot down\, Vietnam.
X-WR-RELCALID:5b5f1a08ac81e137656b0aceec72fb96
X-WR-TIMEZONE:America/New_York
BEGIN:VTIMEZONE
TZID:America/New_York
BEGIN:STANDARD
TZNAME:EST
DTSTART:20261101T020000
TZOFFSETFROM:-0400
TZOFFSETTO:-0500
RDATE:20271107T020000
END:STANDARD
BEGIN:DAYLIGHT
TZNAME:EDT
DTSTART:20260308T020000
TZOFFSETFROM:-0500
TZOFFSETTO:-0400
RDATE:20270314T020000
RDATE:20280312T020000
END:DAYLIGHT
END:VTIMEZONE
BEGIN:VEVENT
UID:506a2e97-f9a5-41f4-8bde-e6964d8870ab
DTSTAMP:20260424T224555Z
DESCRIPTION:4 March 1971: Army RU-8 shot down\, Vietnam.
DTSTART;TZID=America/New_York:20270304T000000
DTEND;TZID=America/New_York:20270304T235900
LOCATION:
SUMMARY:1971: Army RU-8 shot down\, Vietnam.
END:VEVENT
END:VCALENDAR
