BEGIN:VCALENDAR
VERSION:2.0
PRODID:-//archive.cryptologicfoundation.org//NONSGML kigkonsult.se iCalcrea
 tor 2.30.10//
CALSCALE:GREGORIAN
METHOD:PUBLISH
UID:ea2a53f9-650c-4e39-904d-ebbc8f43773e
X-WR-CALDESC:4 March 1975: STONEHOUSE site officially closed. The signals c
 ollection site was located in Asmara\, Ethiopia and closed prematurely due
  to civil war.\n\nLearn more via the NSA.gov STONEHOUSE PDF - linked below
 .
X-WR-RELCALID:e7dcfbce9d7b72c034473dffeb05bed6
X-WR-TIMEZONE:America/New_York
BEGIN:VTIMEZONE
TZID:America/New_York
BEGIN:STANDARD
TZNAME:EST
DTSTART:20261101T020000
TZOFFSETFROM:-0400
TZOFFSETTO:-0500
RDATE:20271107T020000
END:STANDARD
BEGIN:DAYLIGHT
TZNAME:EDT
DTSTART:20260308T020000
TZOFFSETFROM:-0500
TZOFFSETTO:-0400
RDATE:20270314T020000
RDATE:20280312T020000
END:DAYLIGHT
END:VTIMEZONE
BEGIN:VEVENT
UID:8ccd8cb0-ab36-40b6-9007-acf4e196d75d
DTSTAMP:20260424T225703Z
DESCRIPTION:4 March 1975: STONEHOUSE site officially closed. The signals co
 llection site was located in Asmara\, Ethiopia and closed prematurely due 
 to civil war.\n\nLearn more via the NSA.gov STONEHOUSE PDF - linked below.
DTSTART;TZID=America/New_York:20270304T000000
DTEND;TZID=America/New_York:20270304T235900
LOCATION:
SUMMARY:1975: STONEHOUSE site officially closed.
END:VEVENT
END:VCALENDAR
