BEGIN:VCALENDAR
VERSION:2.0
PRODID:-//archive.cryptologicfoundation.org//NONSGML kigkonsult.se iCalcrea
 tor 2.30.10//
CALSCALE:GREGORIAN
METHOD:PUBLISH
UID:d88ba9e1-c36a-4f7c-807d-8b4402e68a46
X-WR-CALDESC:5 March 1946: BRUSA Communications Intelligence Agreement cont
 inues US/UK partnership after WWII.
X-WR-RELCALID:b505dbbb8743239779fbccbcc13472f2
X-WR-TIMEZONE:America/New_York
BEGIN:VTIMEZONE
TZID:America/New_York
BEGIN:STANDARD
TZNAME:EST
DTSTART:20261101T020000
TZOFFSETFROM:-0400
TZOFFSETTO:-0500
RDATE:20271107T020000
END:STANDARD
BEGIN:DAYLIGHT
TZNAME:EDT
DTSTART:20260308T020000
TZOFFSETFROM:-0500
TZOFFSETTO:-0400
RDATE:20270314T020000
RDATE:20280312T020000
END:DAYLIGHT
END:VTIMEZONE
BEGIN:VEVENT
UID:95ce6201-c14a-4c60-af09-bf2f8316999f
DTSTAMP:20260424T225110Z
DESCRIPTION:5 March 1946: BRUSA Communications Intelligence Agreement conti
 nues US/UK partnership after WWII.
DTSTART;TZID=America/New_York:20270305T000000
DTEND;TZID=America/New_York:20270305T235900
LOCATION:
SUMMARY:1946: BRUSA Communications Intelligence Agreement
END:VEVENT
END:VCALENDAR
