BEGIN:VCALENDAR
VERSION:2.0
PRODID:-//archive.cryptologicfoundation.org//NONSGML kigkonsult.se iCalcrea
 tor 2.30.10//
CALSCALE:GREGORIAN
METHOD:PUBLISH
UID:f78989e3-2cd9-447d-9e81-54d13805f9cf
X-WR-CALDESC:8 March 1953: 'Direct' SIGINT support to tactical air control 
 center began on Cho Do Island during the Korean War. Visit the link below 
 for an NSA publication about SIGINT and the Korean War.
X-WR-RELCALID:02ee74413848ef2935f3dcf996948002
X-WR-TIMEZONE:America/New_York
BEGIN:VTIMEZONE
TZID:America/New_York
BEGIN:STANDARD
TZNAME:EST
DTSTART:20261101T020000
TZOFFSETFROM:-0400
TZOFFSETTO:-0500
RDATE:20271107T020000
END:STANDARD
BEGIN:DAYLIGHT
TZNAME:EDT
DTSTART:20260308T020000
TZOFFSETFROM:-0500
TZOFFSETTO:-0400
RDATE:20270314T020000
RDATE:20280312T020000
END:DAYLIGHT
END:VTIMEZONE
BEGIN:VEVENT
UID:ff47c459-498f-42cf-b740-dc6416e89e43
DTSTAMP:20260424T225110Z
DESCRIPTION:8 March 1953: 'Direct' SIGINT support to tactical air control c
 enter began on Cho Do Island during the Korean War. Visit the link below f
 or an NSA publication about SIGINT and the Korean War.
DTSTART;TZID=America/New_York:20270308T000000
DTEND;TZID=America/New_York:20270308T235900
LOCATION:
SUMMARY:1953: 'Direct' SIGINT support to tactical air control center began 
 on Cho Do Island.
END:VEVENT
END:VCALENDAR
