BEGIN:VCALENDAR
VERSION:2.0
PRODID:-//archive.cryptologicfoundation.org//NONSGML kigkonsult.se iCalcrea
 tor 2.30.10//
CALSCALE:GREGORIAN
METHOD:PUBLISH
UID:3e1b1d6b-8196-4520-87ff-baa767a935df
X-WR-CALDESC:8 March 1969: Death of Ralph J. Canine\, first director of the
  NSA. Ralph Canine was inducted into the NSA/CSS Cryptologic Hall of Honor
  in 1999 - read the full Hall of Honor entry about his career and accompli
 shments via the link at the bottom of the page.\n\nHall of Honor excerpt: 
  Lieutenant General Ralph J. Canine\, NSA's first director\, is known toda
 y as the Great Unifier - the man who\, almost single-handedly\, forced cry
 ptologic unification on the Services. His term at NSA\, from 1952 to 1956\
 , became the crucible for cryptologic centralization. He departed the Army
  and NSA a figure of mythic stature. Had Canine not been the director\, NS
 A might not have survived the end of the decade.
X-WR-RELCALID:b91f68aec476c6e6aaf5e9790bf4ccb3
X-WR-TIMEZONE:America/New_York
BEGIN:VTIMEZONE
TZID:America/New_York
BEGIN:STANDARD
TZNAME:EST
DTSTART:20261101T020000
TZOFFSETFROM:-0400
TZOFFSETTO:-0500
RDATE:20271107T020000
END:STANDARD
BEGIN:DAYLIGHT
TZNAME:EDT
DTSTART:20260308T020000
TZOFFSETFROM:-0500
TZOFFSETTO:-0400
RDATE:20270314T020000
RDATE:20280312T020000
END:DAYLIGHT
END:VTIMEZONE
BEGIN:VEVENT
UID:6cbd4d23-f13b-47f9-aaa5-49c25ae2894b
DTSTAMP:20260424T224948Z
DESCRIPTION:8 March 1969: Death of Ralph J. Canine\, first director of the 
 NSA. Ralph Canine was inducted into the NSA/CSS Cryptologic Hall of Honor 
 in 1999 - read the full Hall of Honor entry about his career and accomplis
 hments via the link at the bottom of the page.\n\nHall of Honor excerpt:  
 Lieutenant General Ralph J. Canine\, NSA's first director\, is known today
  as the Great Unifier - the man who\, almost single-handedly\, forced cryp
 tologic unification on the Services. His term at NSA\, from 1952 to 1956\,
  became the crucible for cryptologic centralization. He departed the Army 
 and NSA a figure of mythic stature. Had Canine not been the director\, NSA
  might not have survived the end of the decade.
DTSTART;TZID=America/New_York:20270308T000000
DTEND;TZID=America/New_York:20270308T235900
LOCATION:
SUMMARY:1969: Death of Ralph J. Canine\, first DIRNSA.
END:VEVENT
END:VCALENDAR
