BEGIN:VCALENDAR
VERSION:2.0
PRODID:-//archive.cryptologicfoundation.org//NONSGML kigkonsult.se iCalcrea
 tor 2.30.10//
CALSCALE:GREGORIAN
METHOD:PUBLISH
UID:52f37da9-52b3-498e-b910-a71c32c12464
X-WR-CALDESC:10 March 1918: Radio Intelligence Service established on Mexic
 an border.
X-WR-RELCALID:e84c859f60213dc2346b4d7b883fd819
X-WR-TIMEZONE:America/New_York
BEGIN:VTIMEZONE
TZID:America/New_York
BEGIN:STANDARD
TZNAME:EST
DTSTART:20261101T020000
TZOFFSETFROM:-0400
TZOFFSETTO:-0500
RDATE:20271107T020000
END:STANDARD
BEGIN:DAYLIGHT
TZNAME:EDT
DTSTART:20270314T020000
TZOFFSETFROM:-0500
TZOFFSETTO:-0400
RDATE:20280312T020000
END:DAYLIGHT
END:VTIMEZONE
BEGIN:VEVENT
UID:621e869f-f39c-455d-a131-6b75d1d87756
DTSTAMP:20260424T224804Z
DESCRIPTION:10 March 1918: Radio Intelligence Service established on Mexica
 n border.
DTSTART;TZID=America/New_York:20270310T000000
DTEND;TZID=America/New_York:20270310T235900
LOCATION:
SUMMARY:1918: Radio Intelligence Service\, Mexican border\, was established
 .
END:VEVENT
END:VCALENDAR
