BEGIN:VCALENDAR
VERSION:2.0
PRODID:-//archive.cryptologicfoundation.org//NONSGML kigkonsult.se iCalcrea
 tor 2.30.10//
CALSCALE:GREGORIAN
METHOD:PUBLISH
UID:ef4ffb70-8ddd-4e49-bf63-9fe917efbac8
X-WR-CALDESC:15 March 1946: CREAM replaced ULTRA as the codeword for top se
 cret cryptanalytic material.
X-WR-RELCALID:5bfbe4bc0da5d6cda1faf1e63424037a
X-WR-TIMEZONE:America/New_York
BEGIN:VTIMEZONE
TZID:America/New_York
BEGIN:STANDARD
TZNAME:EST
DTSTART:20261101T020000
TZOFFSETFROM:-0400
TZOFFSETTO:-0500
RDATE:20271107T020000
END:STANDARD
BEGIN:DAYLIGHT
TZNAME:EDT
DTSTART:20270314T020000
TZOFFSETFROM:-0500
TZOFFSETTO:-0400
RDATE:20280312T020000
END:DAYLIGHT
END:VTIMEZONE
BEGIN:VEVENT
UID:b77fd9d3-80e7-487a-aee3-7a4e47ba26bd
DTSTAMP:20260424T224059Z
DESCRIPTION:15 March 1946: CREAM replaced ULTRA as the codeword for top sec
 ret cryptanalytic material.
DTSTART;TZID=America/New_York:20270315T000000
DTEND;TZID=America/New_York:20270315T235900
LOCATION:
SUMMARY:1946: CREAM replaced ULTRA.
END:VEVENT
END:VCALENDAR
