BEGIN:VCALENDAR
VERSION:2.0
PRODID:-//archive.cryptologicfoundation.org//NONSGML kigkonsult.se iCalcrea
 tor 2.30.10//
CALSCALE:GREGORIAN
METHOD:PUBLISH
UID:bcc676c5-8beb-47ef-bc1f-d7e96995b78f
X-WR-CALDESC:Lieutenant General Michael V. Hayden\, USAF\, served as the Di
 rector\, National Security Agency/Chief\, Central Security Service (NSA/CS
 S)\, Fort George G. Meade\, MD\, from March 1999 to April 2005. As the Dir
 ector of NSA and Chief of CSS\, he was responsible for a combat support ag
 ency of the Department of Defense with military and civilian personnel sta
 tioned worldwide.
X-WR-RELCALID:8c0b187630b85998c2f0011b4256891a
X-WR-TIMEZONE:America/New_York
BEGIN:VTIMEZONE
TZID:America/New_York
BEGIN:STANDARD
TZNAME:EST
DTSTART:20261101T020000
TZOFFSETFROM:-0400
TZOFFSETTO:-0500
RDATE:20271107T020000
END:STANDARD
BEGIN:DAYLIGHT
TZNAME:EDT
DTSTART:20270314T020000
TZOFFSETFROM:-0500
TZOFFSETTO:-0400
RDATE:20280312T020000
END:DAYLIGHT
END:VTIMEZONE
BEGIN:VEVENT
UID:9f8a66ed-0f28-4bb6-bb71-32b61f7b1cf3
DTSTAMP:20260424T223312Z
DESCRIPTION:Lieutenant General Michael V. Hayden\, USAF\, served as the Dir
 ector\, National Security Agency/Chief\, Central Security Service (NSA/CSS
 )\, Fort George G. Meade\, MD\, from March 1999 to April 2005. As the Dire
 ctor of NSA and Chief of CSS\, he was responsible for a combat support age
 ncy of the Department of Defense with military and civilian personnel stat
 ioned worldwide.
DTSTART;TZID=America/New_York:20270326T000000
DTEND;TZID=America/New_York:20270326T235900
LOCATION:
SUMMARY:1999: Lt Gen Michael Hayden\, USAF\, became DIRNSA.
END:VEVENT
END:VCALENDAR
