BEGIN:VCALENDAR
VERSION:2.0
PRODID:-//archive.cryptologicfoundation.org//NONSGML kigkonsult.se iCalcrea
 tor 2.30.10//
CALSCALE:GREGORIAN
METHOD:PUBLISH
UID:0090d51b-a20b-4bce-8697-d73f9038a5b7
X-WR-CALDESC:30 March 1973: Last US troops leave Vietnam.
X-WR-RELCALID:61310d6fce9bfb79768544a439984833
X-WR-TIMEZONE:America/New_York
BEGIN:VTIMEZONE
TZID:America/New_York
BEGIN:STANDARD
TZNAME:EST
DTSTART:20261101T020000
TZOFFSETFROM:-0400
TZOFFSETTO:-0500
RDATE:20271107T020000
END:STANDARD
BEGIN:DAYLIGHT
TZNAME:EDT
DTSTART:20270314T020000
TZOFFSETFROM:-0500
TZOFFSETTO:-0400
RDATE:20280312T020000
END:DAYLIGHT
END:VTIMEZONE
BEGIN:VEVENT
UID:024bdec5-4251-4195-b61f-9e405f024558
DTSTAMP:20260424T224156Z
DESCRIPTION:30 March 1973: Last US troops leave Vietnam.
DTSTART;TZID=America/New_York:20270330T000000
DTEND;TZID=America/New_York:20270330T235900
LOCATION:
SUMMARY:1973: Last U.S. troops left Vietnam.
END:VEVENT
END:VCALENDAR
