BEGIN:VCALENDAR
VERSION:2.0
PRODID:-//archive.cryptologicfoundation.org//NONSGML kigkonsult.se iCalcrea
 tor 2.30.10//
CALSCALE:GREGORIAN
METHOD:PUBLISH
UID:945b7e3c-eaea-4fde-ae97-9a6f24273edf
X-WR-CALDESC:1 April 1952: The U.S. Navy's cryptologic organization became 
 the Naval Security Group.
X-WR-RELCALID:9637049ab161a62c56d9a90c96074ba4
X-WR-TIMEZONE:America/New_York
BEGIN:VTIMEZONE
TZID:America/New_York
BEGIN:STANDARD
TZNAME:EST
DTSTART:20261101T020000
TZOFFSETFROM:-0400
TZOFFSETTO:-0500
RDATE:20271107T020000
END:STANDARD
BEGIN:DAYLIGHT
TZNAME:EDT
DTSTART:20270314T020000
TZOFFSETFROM:-0500
TZOFFSETTO:-0400
RDATE:20280312T020000
END:DAYLIGHT
END:VTIMEZONE
BEGIN:VEVENT
UID:de0be67c-f727-48df-9ffb-bd24c0e99e39
DTSTAMP:20260425T000959Z
DESCRIPTION:1 April 1952: The U.S. Navy's cryptologic organization became t
 he Naval Security Group.
DTSTART;TZID=America/New_York:20270401T000000
DTEND;TZID=America/New_York:20270401T235900
LOCATION:
SUMMARY:1952: U.S. Navy's crypto org becomes Naval Security Group.
END:VEVENT
END:VCALENDAR
