BEGIN:VCALENDAR
VERSION:2.0
PRODID:-//archive.cryptologicfoundation.org//NONSGML kigkonsult.se iCalcrea
 tor 2.30.10//
CALSCALE:GREGORIAN
METHOD:PUBLISH
UID:df95f6a3-8ce1-4e91-8d26-bfd9410ab277
X-WR-CALDESC:1 April 2014: ADM Michael S. Rogers\, USN\, sworn in as Direct
 or\, NSA\, and Commander\, USCYBERCOM.
X-WR-RELCALID:a9965ad104e84da843afbbba2683284d
X-WR-TIMEZONE:America/New_York
BEGIN:VTIMEZONE
TZID:America/New_York
BEGIN:STANDARD
TZNAME:EST
DTSTART:20261101T020000
TZOFFSETFROM:-0400
TZOFFSETTO:-0500
RDATE:20271107T020000
END:STANDARD
BEGIN:DAYLIGHT
TZNAME:EDT
DTSTART:20270314T020000
TZOFFSETFROM:-0500
TZOFFSETTO:-0400
RDATE:20280312T020000
END:DAYLIGHT
END:VTIMEZONE
BEGIN:VEVENT
UID:0ecd8370-1e4f-4a93-a8ea-3345a4609602
DTSTAMP:20260425T001451Z
DESCRIPTION:1 April 2014: ADM Michael S. Rogers\, USN\, sworn in as Directo
 r\, NSA\, and Commander\, USCYBERCOM.
DTSTART;TZID=America/New_York:20270401T000000
DTEND;TZID=America/New_York:20270401T235900
LOCATION:
SUMMARY:2014: ADM Michael S. Rogers\, USN\, sworn in at NSA
END:VEVENT
END:VCALENDAR
