BEGIN:VCALENDAR
VERSION:2.0
PRODID:-//archive.cryptologicfoundation.org//NONSGML kigkonsult.se iCalcrea
 tor 2.30.10//
CALSCALE:GREGORIAN
METHOD:PUBLISH
UID:fd602f04-f026-4194-a961-4db34a27e792
X-WR-CALDESC:6 April 1943: First break into the Japanese Water Transport Co
 de.
X-WR-RELCALID:97e138df943afc49d8992d6a1004fdcb
X-WR-TIMEZONE:America/New_York
BEGIN:VTIMEZONE
TZID:America/New_York
BEGIN:STANDARD
TZNAME:EST
DTSTART:20261101T020000
TZOFFSETFROM:-0400
TZOFFSETTO:-0500
RDATE:20271107T020000
END:STANDARD
BEGIN:DAYLIGHT
TZNAME:EDT
DTSTART:20270314T020000
TZOFFSETFROM:-0500
TZOFFSETTO:-0400
RDATE:20280312T020000
END:DAYLIGHT
END:VTIMEZONE
BEGIN:VEVENT
UID:f1d0d8f7-a8d7-4665-a1fc-a3cf865d4643
DTSTAMP:20260425T000830Z
DESCRIPTION:6 April 1943: First break into the Japanese Water Transport Cod
 e.
DTSTART;TZID=America/New_York:20270406T000000
DTEND;TZID=America/New_York:20270406T235900
LOCATION:
SUMMARY:1943: First break in the Japanese Water Transport Code.
END:VEVENT
END:VCALENDAR
