BEGIN:VCALENDAR
VERSION:2.0
PRODID:-//archive.cryptologicfoundation.org//NONSGML kigkonsult.se iCalcrea
 tor 2.30.10//
CALSCALE:GREGORIAN
METHOD:PUBLISH
UID:ae222c75-7bb6-44fc-a4d5-722c20a1464f
X-WR-CALDESC:12 April 2001: China released 24 USN EP3 crewmen following col
 lision with PRC fighter.
X-WR-RELCALID:42dadad48fd32092e3228d21869e5a26
X-WR-TIMEZONE:America/New_York
BEGIN:VTIMEZONE
TZID:America/New_York
BEGIN:STANDARD
TZNAME:EST
DTSTART:20261101T020000
TZOFFSETFROM:-0400
TZOFFSETTO:-0500
RDATE:20271107T020000
END:STANDARD
BEGIN:DAYLIGHT
TZNAME:EDT
DTSTART:20270314T020000
TZOFFSETFROM:-0500
TZOFFSETTO:-0400
RDATE:20280312T020000
END:DAYLIGHT
END:VTIMEZONE
BEGIN:VEVENT
UID:afbf5a6b-1ce0-47e2-b0e2-6a92775d1ff9
DTSTAMP:20260425T001004Z
DESCRIPTION:12 April 2001: China released 24 USN EP3 crewmen following coll
 ision with PRC fighter.
DTSTART;TZID=America/New_York:20270412T000000
DTEND;TZID=America/New_York:20270412T235900
LOCATION:
SUMMARY:2001: China Released 24 USN EP3 Crewmen.
END:VEVENT
END:VCALENDAR
