BEGIN:VCALENDAR
VERSION:2.0
PRODID:-//archive.cryptologicfoundation.org//NONSGML kigkonsult.se iCalcrea
 tor 2.30.10//
CALSCALE:GREGORIAN
METHOD:PUBLISH
UID:4326b6d3-32a6-4fda-a8a3-6763affdaae2
X-WR-CALDESC:18 April 1967: NSA experts spoke in public about computer secu
 rity at the Spring Joint Computer Conference in Atlantic City\, NJ.
X-WR-RELCALID:92373c5cca944bce80698a37cd2de624
X-WR-TIMEZONE:America/New_York
BEGIN:VTIMEZONE
TZID:America/New_York
BEGIN:STANDARD
TZNAME:EST
DTSTART:20261101T020000
TZOFFSETFROM:-0400
TZOFFSETTO:-0500
RDATE:20271107T020000
END:STANDARD
BEGIN:DAYLIGHT
TZNAME:EDT
DTSTART:20270314T020000
TZOFFSETFROM:-0500
TZOFFSETTO:-0400
RDATE:20280312T020000
END:DAYLIGHT
END:VTIMEZONE
BEGIN:VEVENT
UID:0b56e450-0db7-48c0-9838-af2fd4b4ca89
DTSTAMP:20260425T001005Z
DESCRIPTION:18 April 1967: NSA experts spoke in public about computer secur
 ity at the Spring Joint Computer Conference in Atlantic City\, NJ.
DTSTART;TZID=America/New_York:20270418T000000
DTEND;TZID=America/New_York:20270418T235900
LOCATION:
SUMMARY:1967: NSA Experts Spoke in Public on Computer Security at Atlantic 
 City Conference.
END:VEVENT
END:VCALENDAR
