BEGIN:VCALENDAR
VERSION:2.0
PRODID:-//archive.cryptologicfoundation.org//NONSGML kigkonsult.se iCalcrea
 tor 2.30.10//
CALSCALE:GREGORIAN
METHOD:PUBLISH
UID:b4fc44d5-4b2a-4135-9416-bffde47facde
X-WR-CALDESC:30 April 1965 - Secretary of Defense McNamara approved designa
 tion of the National Cryptologic School. Today with more than 20 campuses\
 , four cryptologic centers\, and six cryptologic training schools\, NSA is
  a true global training enterprise. With modern\, mission-focused curricul
 ums\, NSA delivers career development solutions for every stage of your ca
 reer.\n\nPhoto is from the NSA 60th anniversary timeline: NSA Director LTG
  Marshall S. Carter\, USA\, observes class in progress during a 1967 visit
 .
X-WR-RELCALID:b6988c8dc3f367ac27c5771c6d0c876a
X-WR-TIMEZONE:America/New_York
BEGIN:VTIMEZONE
TZID:America/New_York
BEGIN:STANDARD
TZNAME:EST
DTSTART:20261101T020000
TZOFFSETFROM:-0400
TZOFFSETTO:-0500
RDATE:20271107T020000
END:STANDARD
BEGIN:DAYLIGHT
TZNAME:EDT
DTSTART:20270314T020000
TZOFFSETFROM:-0500
TZOFFSETTO:-0400
RDATE:20280312T020000
END:DAYLIGHT
END:VTIMEZONE
BEGIN:VEVENT
UID:677fde63-674a-4a08-8b35-def045a99ccf
DTSTAMP:20260425T000651Z
DESCRIPTION:30 April 1965 - Secretary of Defense McNamara approved designat
 ion of the National Cryptologic School. Today with more than 20 campuses\,
  four cryptologic centers\, and six cryptologic training schools\, NSA is 
 a true global training enterprise. With modern\, mission-focused curriculu
 ms\, NSA delivers career development solutions for every stage of your car
 eer.\n\nPhoto is from the NSA 60th anniversary timeline: NSA Director LTG 
 Marshall S. Carter\, USA\, observes class in progress during a 1967 visit.
DTSTART;TZID=America/New_York:20270430T000000
DTEND;TZID=America/New_York:20270430T235900
LOCATION:
SUMMARY:1965: National Cryptologic School Approved
END:VEVENT
END:VCALENDAR
