BEGIN:VCALENDAR
VERSION:2.0
PRODID:-//archive.cryptologicfoundation.org//NONSGML kigkonsult.se iCalcrea
 tor 2.30.10//
CALSCALE:GREGORIAN
METHOD:PUBLISH
UID:256ddea8-93b7-47c4-adf2-63595c858d6a
X-WR-CALDESC:7 May 1942: 837 Signal Security Detachment\, first U.S. SIGINT
 ers arrive in Australia.
X-WR-RELCALID:a013dc5dbc3a88a7d2202fc6d1730d07
X-WR-TIMEZONE:America/New_York
BEGIN:VTIMEZONE
TZID:America/New_York
BEGIN:STANDARD
TZNAME:EST
DTSTART:20261101T020000
TZOFFSETFROM:-0400
TZOFFSETTO:-0500
RDATE:20271107T020000
RDATE:20281105T020000
END:STANDARD
BEGIN:DAYLIGHT
TZNAME:EDT
DTSTART:20270314T020000
TZOFFSETFROM:-0500
TZOFFSETTO:-0400
RDATE:20280312T020000
END:DAYLIGHT
END:VTIMEZONE
BEGIN:VEVENT
UID:9c459298-b6e0-40df-9233-65dc3314ee7e
DTSTAMP:20260425T015416Z
DESCRIPTION:7 May 1942: 837 Signal Security Detachment\, first U.S. SIGINTe
 rs arrive in Australia.
DTSTART;TZID=America/New_York:20270507T000000
DTEND;TZID=America/New_York:20270507T235900
LOCATION:
SUMMARY:1942: First SIGINTers arrive in Australia
END:VEVENT
END:VCALENDAR
