BEGIN:VCALENDAR
VERSION:2.0
PRODID:-//archive.cryptologicfoundation.org//NONSGML kigkonsult.se iCalcrea
 tor 2.30.10//
CALSCALE:GREGORIAN
METHOD:PUBLISH
UID:dfd37341-347b-459a-8082-f6225a372a53
X-WR-CALDESC:8 May 1945: VE Day - end of war in Europe! \n\nPhoto from www.
 nationalww2museum.org
X-WR-RELCALID:5245ebad6108d384238feba0933c5af7
X-WR-TIMEZONE:America/New_York
BEGIN:VTIMEZONE
TZID:America/New_York
BEGIN:STANDARD
TZNAME:EST
DTSTART:20261101T020000
TZOFFSETFROM:-0400
TZOFFSETTO:-0500
RDATE:20271107T020000
RDATE:20281105T020000
END:STANDARD
BEGIN:DAYLIGHT
TZNAME:EDT
DTSTART:20270314T020000
TZOFFSETFROM:-0500
TZOFFSETTO:-0400
RDATE:20280312T020000
END:DAYLIGHT
END:VTIMEZONE
BEGIN:VEVENT
UID:a45487e8-53c3-4863-a319-fcd0135d2ce7
DTSTAMP:20260425T015200Z
DESCRIPTION:8 May 1945: VE Day - end of war in Europe! \n\nPhoto from www.n
 ationalww2museum.org
DTSTART;TZID=America/New_York:20270508T000000
DTEND;TZID=America/New_York:20270508T235900
LOCATION:
SUMMARY:1945: VE Day
END:VEVENT
END:VCALENDAR
