BEGIN:VCALENDAR
VERSION:2.0
PRODID:-//archive.cryptologicfoundation.org//NONSGML kigkonsult.se iCalcrea
 tor 2.30.10//
CALSCALE:GREGORIAN
METHOD:PUBLISH
UID:16a2df23-8497-4cb8-98ae-05cffd88fa8f
X-WR-CALDESC:10 May 1933: The U.S. Senate debated the bill 'Protection of G
 overnment Records' to establish Information Security as U.S. government re
 sponsibility.
X-WR-RELCALID:fd817603fded44812be9e6977d560c48
X-WR-TIMEZONE:America/New_York
BEGIN:VTIMEZONE
TZID:America/New_York
BEGIN:STANDARD
TZNAME:EST
DTSTART:20261101T020000
TZOFFSETFROM:-0400
TZOFFSETTO:-0500
RDATE:20271107T020000
RDATE:20281105T020000
END:STANDARD
BEGIN:DAYLIGHT
TZNAME:EDT
DTSTART:20270314T020000
TZOFFSETFROM:-0500
TZOFFSETTO:-0400
RDATE:20280312T020000
END:DAYLIGHT
END:VTIMEZONE
BEGIN:VEVENT
UID:1c973ace-1331-4fc6-b21d-64782868afdf
DTSTAMP:20260425T015503Z
DESCRIPTION:10 May 1933: The U.S. Senate debated the bill 'Protection of Go
 vernment Records' to establish Information Security as U.S. government res
 ponsibility.
DTSTART;TZID=America/New_York:20270510T000000
DTEND;TZID=America/New_York:20270510T235900
LOCATION:
SUMMARY:1933: U.S. Senate debates Information Security as government respon
 sibility.
END:VEVENT
END:VCALENDAR
