BEGIN:VCALENDAR
VERSION:2.0
PRODID:-//archive.cryptologicfoundation.org//NONSGML kigkonsult.se iCalcrea
 tor 2.30.10//
CALSCALE:GREGORIAN
METHOD:PUBLISH
UID:7d3f62a2-9168-4381-8a70-82cbf4e6db96
X-WR-CALDESC:17 May 1985: Electronic Security Command took over USAF COMSEC
  mission.
X-WR-RELCALID:98622eb7874c6a014a1cf34b4401630e
X-WR-TIMEZONE:America/New_York
BEGIN:VTIMEZONE
TZID:America/New_York
BEGIN:STANDARD
TZNAME:EST
DTSTART:20261101T020000
TZOFFSETFROM:-0400
TZOFFSETTO:-0500
RDATE:20271107T020000
RDATE:20281105T020000
END:STANDARD
BEGIN:DAYLIGHT
TZNAME:EDT
DTSTART:20270314T020000
TZOFFSETFROM:-0500
TZOFFSETTO:-0400
RDATE:20280312T020000
END:DAYLIGHT
END:VTIMEZONE
BEGIN:VEVENT
UID:d2aec163-adbf-4ad3-af10-9137d7d01a0c
DTSTAMP:20260425T015247Z
DESCRIPTION:17 May 1985: Electronic Security Command took over USAF COMSEC 
 mission.
DTSTART;TZID=America/New_York:20270517T000000
DTEND;TZID=America/New_York:20270517T235900
LOCATION:
SUMMARY:1985: Electronic Security Command took over USAF COMSEC mission.
END:VEVENT
END:VCALENDAR
