BEGIN:VCALENDAR
VERSION:2.0
PRODID:-//archive.cryptologicfoundation.org//NONSGML kigkonsult.se iCalcrea
 tor 2.30.10//
CALSCALE:GREGORIAN
METHOD:PUBLISH
UID:3b04018e-71cd-468e-b194-d866791da135
X-WR-CALDESC:21 May 1975: The William F. Friedman Auditorium was dedicated 
 at NSA. \n\nLearn more about William Friedman via the link below.
X-WR-RELCALID:b97a45d925cb3d07a4a09e47627782db
X-WR-TIMEZONE:America/New_York
BEGIN:VTIMEZONE
TZID:America/New_York
BEGIN:STANDARD
TZNAME:EST
DTSTART:20261101T020000
TZOFFSETFROM:-0400
TZOFFSETTO:-0500
RDATE:20271107T020000
RDATE:20281105T020000
END:STANDARD
BEGIN:DAYLIGHT
TZNAME:EDT
DTSTART:20270314T020000
TZOFFSETFROM:-0500
TZOFFSETTO:-0400
RDATE:20280312T020000
END:DAYLIGHT
END:VTIMEZONE
BEGIN:VEVENT
UID:90b7404d-046f-48b2-b8a5-ede7fb314750
DTSTAMP:20260425T015735Z
DESCRIPTION:21 May 1975: The William F. Friedman Auditorium was dedicated a
 t NSA. \n\nLearn more about William Friedman via the link below.
DTSTART;TZID=America/New_York:20270521T000000
DTEND;TZID=America/New_York:20270521T235900
LOCATION:
SUMMARY:1975: William F. Friedman Auditorium dedicated at NSA.
END:VEVENT
END:VCALENDAR
