BEGIN:VCALENDAR
VERSION:2.0
PRODID:-//archive.cryptologicfoundation.org//NONSGML kigkonsult.se iCalcrea
 tor 2.30.10//
CALSCALE:GREGORIAN
METHOD:PUBLISH
UID:43409fd0-ad15-496b-881d-71e6918aee6f
X-WR-CALDESC:27 May 1962: ASA carried out its first Airborne Platform Missi
 on in Vietnam.
X-WR-RELCALID:779a3cad50562b5651c5b1d6e5cecc45
X-WR-TIMEZONE:America/New_York
BEGIN:VTIMEZONE
TZID:America/New_York
BEGIN:STANDARD
TZNAME:EST
DTSTART:20261101T020000
TZOFFSETFROM:-0400
TZOFFSETTO:-0500
RDATE:20271107T020000
RDATE:20281105T020000
END:STANDARD
BEGIN:DAYLIGHT
TZNAME:EDT
DTSTART:20270314T020000
TZOFFSETFROM:-0500
TZOFFSETTO:-0400
RDATE:20280312T020000
END:DAYLIGHT
END:VTIMEZONE
BEGIN:VEVENT
UID:80e46742-7639-4fc6-a8fa-7ab8b74f213c
DTSTAMP:20260425T020223Z
DESCRIPTION:27 May 1962: ASA carried out its first Airborne Platform Missio
 n in Vietnam.
DTSTART;TZID=America/New_York:20270527T000000
DTEND;TZID=America/New_York:20270527T235900
LOCATION:
SUMMARY:1962: ASA carried out first Airborne Platform Mission in Vietnam.
END:VEVENT
END:VCALENDAR
