BEGIN:VCALENDAR
VERSION:2.0
PRODID:-//archive.cryptologicfoundation.org//NONSGML kigkonsult.se iCalcrea
 tor 2.30.10//
CALSCALE:GREGORIAN
METHOD:PUBLISH
UID:8f86ca63-5973-4ea7-9131-1d3d72af9ac4
X-WR-CALDESC:29 June 1988: German police broke up the 'Hannover Hackers' fo
 r penetrating US computers.
X-WR-RELCALID:2fcc51470c6c58d5e4144e0610ab5a88
X-WR-TIMEZONE:America/New_York
BEGIN:VTIMEZONE
TZID:America/New_York
BEGIN:STANDARD
TZNAME:EST
DTSTART:20261101T020000
TZOFFSETFROM:-0400
TZOFFSETTO:-0500
RDATE:20271107T020000
RDATE:20281105T020000
END:STANDARD
BEGIN:DAYLIGHT
TZNAME:EDT
DTSTART:20270314T020000
TZOFFSETFROM:-0500
TZOFFSETTO:-0400
RDATE:20280312T020000
END:DAYLIGHT
END:VTIMEZONE
BEGIN:VEVENT
UID:19956210-d783-4610-bfbd-939c5106e67c
DTSTAMP:20260425T020150Z
DESCRIPTION:29 June 1988: German police broke up the 'Hannover Hackers' for
  penetrating US computers.
DTSTART;TZID=America/New_York:20270528T000000
DTEND;TZID=America/New_York:20270528T235900
LOCATION:
SUMMARY:1988: German police broke up the 'Hannover Hackers.'
END:VEVENT
END:VCALENDAR
