BEGIN:VCALENDAR
VERSION:2.0
PRODID:-//archive.cryptologicfoundation.org//NONSGML kigkonsult.se iCalcrea
 tor 2.30.10//
CALSCALE:GREGORIAN
METHOD:PUBLISH
UID:cc1e3caa-0111-4dbc-bb9c-9a6b722470a0
X-WR-CALDESC:11 June 1941: Herbert O. Yardley was hired by the Canadian gov
 ernment to help set up a cryptologic section of Canada's National Research
  Council. Learn more about Yardley via the link below to 'The Many Lives o
 f Herbert O. Yardley' PDF.
X-WR-RELCALID:67c0ffed5cc3f8d7d297ffd677d831e2
X-WR-TIMEZONE:America/New_York
BEGIN:VTIMEZONE
TZID:America/New_York
BEGIN:STANDARD
TZNAME:EST
DTSTART:20261101T020000
TZOFFSETFROM:-0400
TZOFFSETTO:-0500
RDATE:20271107T020000
RDATE:20281105T020000
END:STANDARD
BEGIN:DAYLIGHT
TZNAME:EDT
DTSTART:20270314T020000
TZOFFSETFROM:-0500
TZOFFSETTO:-0400
RDATE:20280312T020000
END:DAYLIGHT
END:VTIMEZONE
BEGIN:VEVENT
UID:70e21762-7c44-423c-8025-07a90e710b74
DTSTAMP:20260425T034900Z
DESCRIPTION:11 June 1941: Herbert O. Yardley was hired by the Canadian gove
 rnment to help set up a cryptologic section of Canada's National Research 
 Council. Learn more about Yardley via the link below to 'The Many Lives of
  Herbert O. Yardley' PDF.
DTSTART;TZID=America/New_York:20270611T000000
DTEND;TZID=America/New_York:20270611T235900
LOCATION:
SUMMARY:1941: Herbert O. Yardley hired by Canada's National Research Counci
 l.
END:VEVENT
END:VCALENDAR
