BEGIN:VCALENDAR
VERSION:2.0
PRODID:-//archive.cryptologicfoundation.org//NONSGML kigkonsult.se iCalcrea
 tor 2.30.10//
CALSCALE:GREGORIAN
METHOD:PUBLISH
UID:90cc78d9-cec9-49c9-b6ab-2606b2818be9
X-WR-CALDESC:29 June 1942: The Allies realized that the US diplomatic code 
 had been broken by the Germans.
X-WR-RELCALID:21627dd4b7a271d273d81a17df9feaf3
X-WR-TIMEZONE:America/New_York
BEGIN:VTIMEZONE
TZID:America/New_York
BEGIN:STANDARD
TZNAME:EST
DTSTART:20261101T020000
TZOFFSETFROM:-0400
TZOFFSETTO:-0500
RDATE:20271107T020000
RDATE:20281105T020000
END:STANDARD
BEGIN:DAYLIGHT
TZNAME:EDT
DTSTART:20270314T020000
TZOFFSETFROM:-0500
TZOFFSETTO:-0400
RDATE:20280312T020000
END:DAYLIGHT
END:VTIMEZONE
BEGIN:VEVENT
UID:b0794fb5-a3d6-4e71-abc9-41a8446f8f5c
DTSTAMP:20260425T034230Z
DESCRIPTION:29 June 1942: The Allies realized that the US diplomatic code h
 ad been broken by the Germans.
DTSTART;TZID=America/New_York:20270629T000000
DTEND;TZID=America/New_York:20270629T235900
LOCATION:
SUMMARY:1942: Allies realized code was broken by Germans.
END:VEVENT
END:VCALENDAR
