BEGIN:VCALENDAR
VERSION:2.0
PRODID:-//archive.cryptologicfoundation.org//NONSGML kigkonsult.se iCalcrea
 tor 2.30.10//
CALSCALE:GREGORIAN
METHOD:PUBLISH
UID:be58c9c6-e203-4320-99b0-86cb6a8e1b6c
X-WR-CALDESC:30 June 1971: Two Rock Ranch\, one of the West Coast monitorin
 g stations during WWII\, closed. Two Rock Ranch was the sister station to 
 Vint Hill Farms on the opposite coast (in Virginia). See the link below fo
 r the ASA article about the closing\, by Dave Shively. Photo is from the A
 SAlives.org site - referenced in the link below.
X-WR-RELCALID:c88a6a0d441389a1abda9a7e8ff3cb11
X-WR-TIMEZONE:America/New_York
BEGIN:VTIMEZONE
TZID:America/New_York
BEGIN:STANDARD
TZNAME:EST
DTSTART:20261101T020000
TZOFFSETFROM:-0400
TZOFFSETTO:-0500
RDATE:20271107T020000
RDATE:20281105T020000
END:STANDARD
BEGIN:DAYLIGHT
TZNAME:EDT
DTSTART:20270314T020000
TZOFFSETFROM:-0500
TZOFFSETTO:-0400
RDATE:20280312T020000
END:DAYLIGHT
END:VTIMEZONE
BEGIN:VEVENT
UID:d2f93415-1897-4ef6-a847-49c1ccf7b2d9
DTSTAMP:20260425T035136Z
DESCRIPTION:30 June 1971: Two Rock Ranch\, one of the West Coast monitoring
  stations during WWII\, closed. Two Rock Ranch was the sister station to V
 int Hill Farms on the opposite coast (in Virginia). See the link below for
  the ASA article about the closing\, by Dave Shively. Photo is from the AS
 Alives.org site - referenced in the link below.
DTSTART;TZID=America/New_York:20270630T000000
DTEND;TZID=America/New_York:20270630T235900
LOCATION:
SUMMARY:1971: Two Rock Ranch (WWII monitoring station) closed.
END:VEVENT
END:VCALENDAR
