BEGIN:VCALENDAR
VERSION:2.0
PRODID:-//archive.cryptologicfoundation.org//NONSGML kigkonsult.se iCalcrea
 tor 2.30.10//
CALSCALE:GREGORIAN
METHOD:PUBLISH
UID:e28f011c-57c0-4239-86da-2502ea31d840
X-WR-CALDESC:1 October 1949: AFSA assumed operational control of cryptologi
 c activities.
X-WR-RELCALID:ef77a6a9ff60ce718e643ef6f51b5444
X-WR-TIMEZONE:America/New_York
BEGIN:VTIMEZONE
TZID:America/New_York
BEGIN:STANDARD
TZNAME:EST
DTSTART:20261101T020000
TZOFFSETFROM:-0400
TZOFFSETTO:-0500
RDATE:20271107T020000
RDATE:20281105T020000
END:STANDARD
BEGIN:DAYLIGHT
TZNAME:EDT
DTSTART:20270314T020000
TZOFFSETFROM:-0500
TZOFFSETTO:-0400
RDATE:20280312T020000
RDATE:20290311T020000
END:DAYLIGHT
END:VTIMEZONE
BEGIN:VEVENT
UID:9f94934a-e97e-4a56-86d6-9f230d0ffedf
DTSTAMP:20260425T104132Z
DESCRIPTION:1 October 1949: AFSA assumed operational control of cryptologic
  activities.
DTSTART;TZID=America/New_York:20271001T000000
DTEND;TZID=America/New_York:20271001T235900
LOCATION:
SUMMARY:1949: AFSA Assumed Cryptologic Activities
END:VEVENT
END:VCALENDAR
