BEGIN:VCALENDAR
VERSION:2.0
PRODID:-//archive.cryptologicfoundation.org//NONSGML kigkonsult.se iCalcrea
 tor 2.30.10//
CALSCALE:GREGORIAN
METHOD:PUBLISH
UID:4870b496-a9f3-48e3-91ac-a3a0fc48b4a0
X-WR-CALDESC:3 October 1940:  U.S. Army and Navy agreed to 'odd/even' day d
 ivision of effort on Japanese diplomatic cipher.
X-WR-RELCALID:27ab8bf022ff370553931729bc52784d
X-WR-TIMEZONE:America/New_York
BEGIN:VTIMEZONE
TZID:America/New_York
BEGIN:STANDARD
TZNAME:EST
DTSTART:20261101T020000
TZOFFSETFROM:-0400
TZOFFSETTO:-0500
RDATE:20271107T020000
RDATE:20281105T020000
END:STANDARD
BEGIN:DAYLIGHT
TZNAME:EDT
DTSTART:20270314T020000
TZOFFSETFROM:-0500
TZOFFSETTO:-0400
RDATE:20280312T020000
RDATE:20290311T020000
END:DAYLIGHT
END:VTIMEZONE
BEGIN:VEVENT
UID:24d5a078-1001-4f8c-99a1-22f9596eec97
DTSTAMP:20260425T104717Z
DESCRIPTION:3 October 1940:  U.S. Army and Navy agreed to 'odd/even' day di
 vision of effort on Japanese diplomatic cipher.
DTSTART;TZID=America/New_York:20271003T000000
DTEND;TZID=America/New_York:20271003T235900
LOCATION:
SUMMARY:1940: 'Odd/Even' Agreement for Army & Navy
END:VEVENT
END:VCALENDAR
