BEGIN:VCALENDAR
VERSION:2.0
PRODID:-//archive.cryptologicfoundation.org//NONSGML kigkonsult.se iCalcrea
 tor 2.30.10//
CALSCALE:GREGORIAN
METHOD:PUBLISH
UID:bba954d8-c03a-449f-993c-481470837c8c
X-WR-CALDESC:7 October 1918: First in the 'Lakes' series of field codes\, '
 Champlain\,' was released.
X-WR-RELCALID:c7f8be00142577d68b295127f95ccd5a
X-WR-TIMEZONE:America/New_York
BEGIN:VTIMEZONE
TZID:America/New_York
BEGIN:STANDARD
TZNAME:EST
DTSTART:20261101T020000
TZOFFSETFROM:-0400
TZOFFSETTO:-0500
RDATE:20271107T020000
RDATE:20281105T020000
END:STANDARD
BEGIN:DAYLIGHT
TZNAME:EDT
DTSTART:20270314T020000
TZOFFSETFROM:-0500
TZOFFSETTO:-0400
RDATE:20280312T020000
RDATE:20290311T020000
END:DAYLIGHT
END:VTIMEZONE
BEGIN:VEVENT
UID:1ff84202-a0d2-4607-a370-add153f9d9b1
DTSTAMP:20260425T103954Z
DESCRIPTION:7 October 1918: First in the 'Lakes' series of field codes\, 'C
 hamplain\,' was released.
DTSTART;TZID=America/New_York:20271007T000000
DTEND;TZID=America/New_York:20271007T235900
LOCATION:
SUMMARY:1918: 'Champlain' Field Codes Released.
END:VEVENT
END:VCALENDAR
