BEGIN:VCALENDAR
VERSION:2.0
PRODID:-//archive.cryptologicfoundation.org//NONSGML kigkonsult.se iCalcrea
 tor 2.30.10//
CALSCALE:GREGORIAN
METHOD:PUBLISH
UID:bcdd2e8a-5461-4f67-a0ed-67124a70f8fb
X-WR-CALDESC:7 October 1952: USAF RB-29\, nicknamed 'Sunbonnet\,' was on a 
 routine flight and was shot down by Soviet fighters off the east coast of 
 Japan’s northernmost island Hokkaido\, near the tip of the Kurile Island c
 hain. Eight crewmen were lost.
X-WR-RELCALID:3df68fa8856f9e42c005e4f683bee14f
X-WR-TIMEZONE:America/New_York
BEGIN:VTIMEZONE
TZID:America/New_York
BEGIN:STANDARD
TZNAME:EST
DTSTART:20261101T020000
TZOFFSETFROM:-0400
TZOFFSETTO:-0500
RDATE:20271107T020000
RDATE:20281105T020000
END:STANDARD
BEGIN:DAYLIGHT
TZNAME:EDT
DTSTART:20270314T020000
TZOFFSETFROM:-0500
TZOFFSETTO:-0400
RDATE:20280312T020000
RDATE:20290311T020000
END:DAYLIGHT
END:VTIMEZONE
BEGIN:VEVENT
UID:11b4ba58-9683-45d6-b09a-8f9ae658c4a7
DTSTAMP:20260425T104426Z
DESCRIPTION:7 October 1952: USAF RB-29\, nicknamed 'Sunbonnet\,' was on a r
 outine flight and was shot down by Soviet fighters off the east coast of J
 apan’s northernmost island Hokkaido\, near the tip of the Kurile Island ch
 ain. Eight crewmen were lost.
DTSTART;TZID=America/New_York:20271007T000000
DTEND;TZID=America/New_York:20271007T235900
LOCATION:
SUMMARY:1952: USAF RB-29 Shot Down
END:VEVENT
END:VCALENDAR
