BEGIN:VCALENDAR
VERSION:2.0
PRODID:-//archive.cryptologicfoundation.org//NONSGML kigkonsult.se iCalcrea
 tor 2.30.10//
CALSCALE:GREGORIAN
METHOD:PUBLISH
UID:6beaff92-7195-499a-aba6-839184a5e05f
X-WR-CALDESC:9 October 1985: U.S. fighters (such as the F-14 Tomcat picture
 d here) intercepted the aircraft carrying four terrorists who hijacked the
  cruise ship 'Achille Lauro' on 7 October 1985.
X-WR-RELCALID:d1b962f08caaaa41198b11ee36b7f6c2
X-WR-TIMEZONE:America/New_York
BEGIN:VTIMEZONE
TZID:America/New_York
BEGIN:STANDARD
TZNAME:EST
DTSTART:20261101T020000
TZOFFSETFROM:-0400
TZOFFSETTO:-0500
RDATE:20271107T020000
RDATE:20281105T020000
END:STANDARD
BEGIN:DAYLIGHT
TZNAME:EDT
DTSTART:20270314T020000
TZOFFSETFROM:-0500
TZOFFSETTO:-0400
RDATE:20280312T020000
RDATE:20290311T020000
END:DAYLIGHT
END:VTIMEZONE
BEGIN:VEVENT
UID:afb0897d-de1e-4fce-ba99-bc0be6acd9b6
DTSTAMP:20260425T104857Z
DESCRIPTION:9 October 1985: U.S. fighters (such as the F-14 Tomcat pictured
  here) intercepted the aircraft carrying four terrorists who hijacked the 
 cruise ship 'Achille Lauro' on 7 October 1985.
DTSTART;TZID=America/New_York:20271009T000000
DTEND;TZID=America/New_York:20271009T235900
LOCATION:
SUMMARY:1985: U.S. Fighters Intercept Terrorists from 'Achille Lauro'
END:VEVENT
END:VCALENDAR
