BEGIN:VCALENDAR
VERSION:2.0
PRODID:-//archive.cryptologicfoundation.org//NONSGML kigkonsult.se iCalcrea
 tor 2.30.10//
CALSCALE:GREGORIAN
METHOD:PUBLISH
UID:21aa4c1d-b94d-47fc-9457-537d76250c79
X-WR-CALDESC:On October 12\, 2000\, suicide terrorists exploded a small boa
 t alongside the USS Cole—a Navy Destroyer—as it was refueling in the Yemen
 i port of Aden. The blast ripped a 40-foot-wide hole near the waterline of
  the Cole\, killing 17 American sailors and injuring many more. An FBI inv
 estigation determined Al-Qaeda terrorists planned and carried out the atta
 ck.\n
X-WR-RELCALID:667a1e975caec78daa55bfec8979314e
X-WR-TIMEZONE:America/New_York
BEGIN:VTIMEZONE
TZID:America/New_York
BEGIN:STANDARD
TZNAME:EST
DTSTART:20261101T020000
TZOFFSETFROM:-0400
TZOFFSETTO:-0500
RDATE:20271107T020000
RDATE:20281105T020000
END:STANDARD
BEGIN:DAYLIGHT
TZNAME:EDT
DTSTART:20270314T020000
TZOFFSETFROM:-0500
TZOFFSETTO:-0400
RDATE:20280312T020000
RDATE:20290311T020000
END:DAYLIGHT
END:VTIMEZONE
BEGIN:VEVENT
UID:58abf5db-48f7-4572-9fce-0cb5b00b28c4
DTSTAMP:20260425T104754Z
DESCRIPTION:On October 12\, 2000\, suicide terrorists exploded a small boat
  alongside the USS Cole—a Navy Destroyer—as it was refueling in the Yemeni
  port of Aden. The blast ripped a 40-foot-wide hole near the waterline of 
 the Cole\, killing 17 American sailors and injuring many more. An FBI inve
 stigation determined Al-Qaeda terrorists planned and carried out the attac
 k.\n
DTSTART;TZID=America/New_York:20271012T000000
DTEND;TZID=America/New_York:20271012T235900
LOCATION:
SUMMARY:2000: al-Qaeda Bomed the USS Cole
END:VEVENT
END:VCALENDAR
