BEGIN:VCALENDAR
VERSION:2.0
PRODID:-//archive.cryptologicfoundation.org//NONSGML kigkonsult.se iCalcrea
 tor 2.30.10//
CALSCALE:GREGORIAN
METHOD:PUBLISH
UID:9893338a-da5f-41e7-ac89-0d67732bffb0
X-WR-CALDESC:15 October 1946: The School at Vint Hill Farms was renamed ASA
  School. \n\nBut first\, let's step back ..... The year is 1942 and the Ar
 my has just purchased a farm in Warrenton\, Virginia\, not far from the Ar
 my Signals Intelligence Service headquarters\, Arlington Hall. The farm\, 
 known as Vint Hill since 1803\, had exchanged hands a few times over the y
 ears but was set to be the home of the Army’s Signal Security Agency Crypt
 ographic Division School which was making the four-hour journey south from
  Ft. Monmouth\, New Jersey. \n\nHere\, thousands of men and women\, includ
 ing Women Accepted for Volunteer Emergency Service (WAVES)\, were trained 
 throughout WWII and beyond until the site closed in June 1997. The school 
 at Vint Hill Farms presented a formidable curriculum for cryptanalysts\, t
 raffic analysts\, and related technicians.\n\nYou can learn more about Vin
 t Hill Farms via the link to an NSA pdf located below.
X-WR-RELCALID:88a242d40700be46570be81a349e9e6f
X-WR-TIMEZONE:America/New_York
BEGIN:VTIMEZONE
TZID:America/New_York
BEGIN:STANDARD
TZNAME:EST
DTSTART:20261101T020000
TZOFFSETFROM:-0400
TZOFFSETTO:-0500
RDATE:20271107T020000
RDATE:20281105T020000
END:STANDARD
BEGIN:DAYLIGHT
TZNAME:EDT
DTSTART:20270314T020000
TZOFFSETFROM:-0500
TZOFFSETTO:-0400
RDATE:20280312T020000
RDATE:20290311T020000
END:DAYLIGHT
END:VTIMEZONE
BEGIN:VEVENT
UID:4dc6fbb3-92cb-42ef-9a05-25b9726b5800
DTSTAMP:20260425T105451Z
DESCRIPTION:15 October 1946: The School at Vint Hill Farms was renamed ASA 
 School. \n\nBut first\, let's step back ..... The year is 1942 and the Arm
 y has just purchased a farm in Warrenton\, Virginia\, not far from the Arm
 y Signals Intelligence Service headquarters\, Arlington Hall. The farm\, k
 nown as Vint Hill since 1803\, had exchanged hands a few times over the ye
 ars but was set to be the home of the Army’s Signal Security Agency Crypto
 graphic Division School which was making the four-hour journey south from 
 Ft. Monmouth\, New Jersey. \n\nHere\, thousands of men and women\, includi
 ng Women Accepted for Volunteer Emergency Service (WAVES)\, were trained t
 hroughout WWII and beyond until the site closed in June 1997. The school a
 t Vint Hill Farms presented a formidable curriculum for cryptanalysts\, tr
 affic analysts\, and related technicians.\n\nYou can learn more about Vint
  Hill Farms via the link to an NSA pdf located below.
DTSTART;TZID=America/New_York:20271015T000000
DTEND;TZID=America/New_York:20271015T235900
LOCATION:
SUMMARY:1946: Vint Hill Farms School Renamed
END:VEVENT
END:VCALENDAR
