BEGIN:VCALENDAR
VERSION:2.0
PRODID:-//archive.cryptologicfoundation.org//NONSGML kigkonsult.se iCalcrea
 tor 2.30.10//
CALSCALE:GREGORIAN
METHOD:PUBLISH
UID:67c88c16-47e6-402c-86d9-fd62b524b312
X-WR-CALDESC:17 October 1907: Guglielmo Marconi officially opens the first 
 commercial transatlantic wireless telegraph service\, which runs between N
 ova Scotia and Ireland. (Image courtesy of <a href='http://thisdayintechhi
 story.com/10/17/first-transatlantic-wireless-telegraph-service/'>www.thisd
 ayintechhistory.com</a>)
X-WR-RELCALID:59f1be9b1097dd3771569875d4576409
X-WR-TIMEZONE:America/New_York
BEGIN:VTIMEZONE
TZID:America/New_York
BEGIN:STANDARD
TZNAME:EST
DTSTART:20261101T020000
TZOFFSETFROM:-0400
TZOFFSETTO:-0500
RDATE:20271107T020000
RDATE:20281105T020000
END:STANDARD
BEGIN:DAYLIGHT
TZNAME:EDT
DTSTART:20270314T020000
TZOFFSETFROM:-0500
TZOFFSETTO:-0400
RDATE:20280312T020000
RDATE:20290311T020000
END:DAYLIGHT
END:VTIMEZONE
BEGIN:VEVENT
UID:4ad3abea-3c0c-45db-9a49-6bb1c786cc0d
DTSTAMP:20260425T104307Z
DESCRIPTION:17 October 1907: Guglielmo Marconi officially opens the first c
 ommercial transatlantic wireless telegraph service\, which runs between No
 va Scotia and Ireland. (Image courtesy of <a href='http://thisdayintechhis
 tory.com/10/17/first-transatlantic-wireless-telegraph-service/'>www.thisda
 yintechhistory.com</a>)
DTSTART;TZID=America/New_York:20271017T000000
DTEND;TZID=America/New_York:20271017T235900
LOCATION:
SUMMARY:1907: First Commercial Transatlantic Wireless Service
END:VEVENT
END:VCALENDAR
