BEGIN:VCALENDAR
VERSION:2.0
PRODID:-//archive.cryptologicfoundation.org//NONSGML kigkonsult.se iCalcrea
 tor 2.30.10//
CALSCALE:GREGORIAN
METHOD:PUBLISH
UID:c7c7c080-432d-4308-88f5-d316d65aa3f2
X-WR-CALDESC:20 October 1948: The USAF Security Service was established.
X-WR-RELCALID:8f05f9bdc61d6eaedb17b9eea2ed1a71
X-WR-TIMEZONE:America/New_York
BEGIN:VTIMEZONE
TZID:America/New_York
BEGIN:STANDARD
TZNAME:EST
DTSTART:20261101T020000
TZOFFSETFROM:-0400
TZOFFSETTO:-0500
RDATE:20271107T020000
RDATE:20281105T020000
END:STANDARD
BEGIN:DAYLIGHT
TZNAME:EDT
DTSTART:20270314T020000
TZOFFSETFROM:-0500
TZOFFSETTO:-0400
RDATE:20280312T020000
RDATE:20290311T020000
END:DAYLIGHT
END:VTIMEZONE
BEGIN:VEVENT
UID:6e9b14e1-a2e7-408d-b46b-a19865a03af2
DTSTAMP:20260425T104112Z
DESCRIPTION:20 October 1948: The USAF Security Service was established.
DTSTART;TZID=America/New_York:20271020T000000
DTEND;TZID=America/New_York:20271020T235900
LOCATION:
SUMMARY:1948: Air Force Security Service Established
END:VEVENT
END:VCALENDAR
