BEGIN:VCALENDAR
VERSION:2.0
PRODID:-//archive.cryptologicfoundation.org//NONSGML kigkonsult.se iCalcrea
 tor 2.30.10//
CALSCALE:GREGORIAN
METHOD:PUBLISH
UID:d38c20e6-6cd3-43dd-a8b0-bf7f0bd3e1c0
X-WR-CALDESC:20 October 1981: The United States' President's Foreign Intell
 igence Advisory Board was re-established.
X-WR-RELCALID:de98235ee1353b686b119dcb16fe4228
X-WR-TIMEZONE:America/New_York
BEGIN:VTIMEZONE
TZID:America/New_York
BEGIN:STANDARD
TZNAME:EST
DTSTART:20261101T020000
TZOFFSETFROM:-0400
TZOFFSETTO:-0500
RDATE:20271107T020000
RDATE:20281105T020000
END:STANDARD
BEGIN:DAYLIGHT
TZNAME:EDT
DTSTART:20270314T020000
TZOFFSETFROM:-0500
TZOFFSETTO:-0400
RDATE:20280312T020000
RDATE:20290311T020000
END:DAYLIGHT
END:VTIMEZONE
BEGIN:VEVENT
UID:7e8a66c0-0fd8-4a14-b72e-8d8a30647592
DTSTAMP:20260425T104214Z
DESCRIPTION:20 October 1981: The United States' President's Foreign Intelli
 gence Advisory Board was re-established.
DTSTART;TZID=America/New_York:20271020T000000
DTEND;TZID=America/New_York:20271020T235900
LOCATION:
SUMMARY:1981: Foreign Intelligence Advisory Board Re-established.
END:VEVENT
END:VCALENDAR
